BEGIN:VCALENDAR
VERSION:2.0
PRODID:-//Archéologie et modélisme d'Arsenal (Angleur - Wallonie - Belgique
  - Europe )//NONSGML kigkonsult.se iCalcreator 2.30.10//
CALSCALE:GREGORIAN
METHOD:PUBLISH
UID:cc35e3d6-5fa1-4b37-97a5-145c32f086c2
X-WR-CALNAME:iCagenda
X-WR-CALDESC:Event Management Extension for Joomla!
X-WR-RELCALID:3E26604A-50F4-4449-8B3E-E4F4932D05B5
X-WR-TIMEZONE:Europe/Brussels
BEGIN:VTIMEZONE
TZID:Europe/Brussels
BEGIN:STANDARD
TZNAME:CET
DTSTART:20251026T030000
TZOFFSETFROM:+0200
TZOFFSETTO:+0100
RDATE:20261025T030000
END:STANDARD
BEGIN:DAYLIGHT
TZNAME:CEST
DTSTART:20250330T020000
TZOFFSETFROM:+0100
TZOFFSETTO:+0200
RDATE:20260329T020000
RDATE:20270328T020000
END:DAYLIGHT
END:VTIMEZONE
BEGIN:VEVENT
UID:dd2d5744-5e23-43f9-bb34-e8de3982ce7c
DTSTAMP:20260424T150315Z
CATEGORIES:Réunions membres
CLASS:PUBLIC
DESCRIPTION:
DTSTART:20251122T130000Z
DTEND:20251122T170000Z
GEO:00;0
LOCATION:
ORGANIZER:
SEQUENCE:1
SUMMARY:Réunion  9
TRANSP:OPAQUE
URL:https://amarsenal.be/association/agenda/167-reunion-9
END:VEVENT
END:VCALENDAR
