BEGIN:VCALENDAR
VERSION:2.0
PRODID:-//Archéologie et modélisme d'Arsenal (Angleur - Wallonie - Belgique
  - Europe )//NONSGML kigkonsult.se iCalcreator 2.30.10//
CALSCALE:GREGORIAN
METHOD:PUBLISH
UID:efabf269-7e4b-4d2b-b403-051b5904817f
X-WR-CALNAME:iCagenda
X-WR-CALDESC:Event Management Extension for Joomla!
X-WR-RELCALID:3E26604A-50F4-4449-8B3E-E4F4932D05B5
X-WR-TIMEZONE:Europe/Brussels
BEGIN:VTIMEZONE
TZID:Europe/Brussels
BEGIN:STANDARD
TZNAME:CET
DTSTART:20241027T030000
TZOFFSETFROM:+0200
TZOFFSETTO:+0100
RDATE:20251026T030000
END:STANDARD
BEGIN:DAYLIGHT
TZNAME:CEST
DTSTART:20240331T020000
TZOFFSETFROM:+0100
TZOFFSETTO:+0200
RDATE:20250330T020000
RDATE:20260329T020000
END:DAYLIGHT
END:VTIMEZONE
BEGIN:VEVENT
UID:10ec9b09-6e90-468a-bd56-b969eed69c2d
DTSTAMP:20260424T150408Z
CATEGORIES:Ateliers : Stages & Apprentissage
CLASS:PUBLIC
DESCRIPTION:
DTSTART:20250111T080000Z
DTEND:20250111T123000Z
GEO:00;0
LOCATION:
ORGANIZER:
SEQUENCE:1
SUMMARY:Atelier + drink nouvel an
TRANSP:OPAQUE
URL:https://amarsenal.be/association/agenda/147-atelier-drink-nouvel-an
END:VEVENT
END:VCALENDAR
